BEGIN:VCALENDAR
VERSION:2.0
PRODID:www.gruene-riedstadt.de
METHOD:PUBLISH
BEGIN:VTIMEZONE
TZID:Europe/Berlin
X-LIC-LOCATION:Europe/Berlin
BEGIN:DAYLIGHT
TZOFFSETFROM:+0100
TZOFFSETTO:+0200
TZNAME:CEST
DTSTART:19700329T020000
RRULE:FREQ=YEARLY;INTERVAL=1;BYDAY=-1SU;BYMONTH=3
END:DAYLIGHT
BEGIN:STANDARD
TZOFFSETFROM:+0200
TZOFFSETTO:+0100
TZNAME:CET
DTSTART:19701025T030000
RRULE:FREQ=YEARLY;INTERVAL=1;BYDAY=-1SU;BYMONTH=10
END:STANDARD
END:VTIMEZONE
BEGIN:VEVENT
UID:aafb0903879e8ca00e5d612bd7f2ab2b@www.gruene-riedstadt.de
URL;VALUE=URI:https://www.gruene-riedstadt.de/termine/infoveranstaltung-z
 ur-kommunalwahl-2026-in-leeheim/
LOCATION:Bäcker, Hauptstraße 40, Riedstadt-Leeheim
SUMMARY:Infoveranstaltung zur Kommunalwahl 2026 am Bäcker in Leeheim
DESCRIPTION;ALTREP="data:text/html,":
CLASS:PUBLIC
DTSTART;TZID=Europe/Berlin:20260214T073000
DTEND;TZID=Europe/Berlin:20260214T093000
DTSTAMP:20260420T101331
END:VEVENT
END:VCALENDAR