BEGIN:VCALENDAR
VERSION:2.0
PRODID:www.gruene-riedstadt.de
METHOD:PUBLISH
BEGIN:VTIMEZONE
TZID:Europe/Berlin
X-LIC-LOCATION:Europe/Berlin
BEGIN:DAYLIGHT
TZOFFSETFROM:+0100
TZOFFSETTO:+0200
TZNAME:CEST
DTSTART:19700329T020000
RRULE:FREQ=YEARLY;INTERVAL=1;BYDAY=-1SU;BYMONTH=3
END:DAYLIGHT
BEGIN:STANDARD
TZOFFSETFROM:+0200
TZOFFSETTO:+0100
TZNAME:CET
DTSTART:19701025T030000
RRULE:FREQ=YEARLY;INTERVAL=1;BYDAY=-1SU;BYMONTH=10
END:STANDARD
END:VTIMEZONE
BEGIN:VEVENT
UID:c478c3c118bb340e0be8b800171f9392@www.gruene-riedstadt.de
URL;VALUE=URI:https://www.gruene-riedstadt.de/termine/infoveranstaltung-z
 ur-kommunalwahl-am-bahnhof-goddelau-03/
LOCATION:Bahnhof, Riedstadt-Goddelau
SUMMARY:Infoveranstaltung zur Kommunalwahl am Bahnhof Goddelau
DESCRIPTION;ALTREP="data:text/html,":
CLASS:PUBLIC
DTSTART;TZID=Europe/Berlin:20260312T064500
DTEND;TZID=Europe/Berlin:20260312T081500
DTSTAMP:20260423T105558
END:VEVENT
END:VCALENDAR