BEGIN:VCALENDAR
VERSION:2.0
PRODID:www.gruene-riedstadt.de
METHOD:PUBLISH
BEGIN:VTIMEZONE
TZID:Europe/Berlin
X-LIC-LOCATION:Europe/Berlin
BEGIN:DAYLIGHT
TZOFFSETFROM:+0100
TZOFFSETTO:+0200
TZNAME:CEST
DTSTART:19700329T020000
RRULE:FREQ=YEARLY;INTERVAL=1;BYDAY=-1SU;BYMONTH=3
END:DAYLIGHT
BEGIN:STANDARD
TZOFFSETFROM:+0200
TZOFFSETTO:+0100
TZNAME:CET
DTSTART:19701025T030000
RRULE:FREQ=YEARLY;INTERVAL=1;BYDAY=-1SU;BYMONTH=10
END:STANDARD
END:VTIMEZONE
BEGIN:VEVENT
UID:3836db40405fd869a3d9f8d1d06331d1@www.gruene-riedstadt.de
URL;VALUE=URI:https://www.gruene-riedstadt.de/termine/infoveranstaltung-z
 ur-kommunalwahl-in-wolfskehlen-01/
LOCATION:Bäckerei Ewald, Kirchplatz, Riedstadt-Wolfskehlen
SUMMARY:Infoveranstaltung zur Kommunalwahl an der Bäckerei Ewald in Wolf
 skehlen
DESCRIPTION;ALTREP="data:text/html,":
CLASS:PUBLIC
DTSTART;TZID=Europe/Berlin:20260221T073000
DTEND;TZID=Europe/Berlin:20260221T093000
DTSTAMP:20260420T095846
END:VEVENT
END:VCALENDAR